BEGIN:VCALENDAR
VERSION:2.0
PRODID:-//MSSW - ECPv5.4.0.2//NONSGML v1.0//EN
CALSCALE:GREGORIAN
METHOD:PUBLISH
X-WR-CALNAME:MSSW
X-ORIGINAL-URL:https://seic.mssw.in
X-WR-CALDESC:Events for MSSW
BEGIN:VTIMEZONE
TZID:Asia/Kolkata
BEGIN:STANDARD
TZOFFSETFROM:+0530
TZOFFSETTO:+0530
TZNAME:IST
DTSTART:20210101T000000
END:STANDARD
END:VTIMEZONE
BEGIN:VEVENT
DTSTART;VALUE=DATE:20210308
DTEND;VALUE=DATE:20210309
DTSTAMP:20260422T194813
CREATED:20210224T063915Z
LAST-MODIFIED:20210312T091354Z
UID:152-1615161600-1615247999@seic.mssw.in
SUMMARY:Launch of short-term course on Building  Green Economies
DESCRIPTION:In collaboration with Samanvaya
URL:https://seic.mssw.in/event/launch-of-short-term-course-on-building-green-economies/
LOCATION:SEIC\, 32\, Casa Major Road\, Egmore\, Chennai\, Tamilnadu\, 600008\, India
CATEGORIES:Upcoming Events
END:VEVENT
END:VCALENDAR