BEGIN:VCALENDAR
VERSION:2.0
PRODID:-//MSSW - ECPv5.4.0.2//NONSGML v1.0//EN
CALSCALE:GREGORIAN
METHOD:PUBLISH
X-WR-CALNAME:MSSW
X-ORIGINAL-URL:https://seic.mssw.in
X-WR-CALDESC:Events for MSSW
BEGIN:VTIMEZONE
TZID:Asia/Kolkata
BEGIN:STANDARD
TZOFFSETFROM:+0530
TZOFFSETTO:+0530
TZNAME:IST
DTSTART:20200101T000000
END:STANDARD
END:VTIMEZONE
BEGIN:VEVENT
DTSTART;VALUE=DATE:20200501
DTEND;VALUE=DATE:20200502
DTSTAMP:20260422T165939
CREATED:20210224T060407Z
LAST-MODIFIED:20210224T060638Z
UID:135-1588291200-1588377599@seic.mssw.in
SUMMARY:Online Social PitchFest on “COVID-19  Current and Future Social Challenges”
DESCRIPTION:No of registration: 30   \nWinner- Mr.Shaloom\, CARBON HUB
URL:https://seic.mssw.in/event/online-social-pitchfest-on-covid-19-current-and-future-social-challenges/
LOCATION:Madras School of Social Work\, 32\, Casa Major Road\, Egmore\, Chennai\, Tamilnadu\, 600008\, India
CATEGORIES:Past Events
END:VEVENT
END:VCALENDAR